BEGIN:VCALENDAR
VERSION:2.0
PRODID:-//Downtown Neighbor Network - ECPv6.5.0//NONSGML v1.0//EN
CALSCALE:GREGORIAN
METHOD:PUBLISH
X-WR-CALNAME:Downtown Neighbor Network
X-ORIGINAL-URL:https://dnngr.org
X-WR-CALDESC:Events for Downtown Neighbor Network
REFRESH-INTERVAL;VALUE=DURATION:PT1H
X-Robots-Tag:noindex
X-PUBLISHED-TTL:PT1H
BEGIN:VTIMEZONE
TZID:America/Detroit
BEGIN:DAYLIGHT
TZOFFSETFROM:-0500
TZOFFSETTO:-0400
TZNAME:EDT
DTSTART:20220313T070000
END:DAYLIGHT
BEGIN:STANDARD
TZOFFSETFROM:-0400
TZOFFSETTO:-0500
TZNAME:EST
DTSTART:20221106T060000
END:STANDARD
END:VTIMEZONE
BEGIN:VEVENT
DTSTART;TZID=America/Detroit:20220707T113000
DTEND;TZID=America/Detroit:20220707T130000
DTSTAMP:20260424T230458
CREATED:20220701T160630Z
LAST-MODIFIED:20220708T145621Z
UID:2052-1657193400-1657198800@dnngr.org
SUMMARY:July DNN Advisory Meeting
DESCRIPTION:Relax at Rosa - the free lunchtime entertainment series - is back on Thursday\, May 1 from 12:00 - 1:30 PM.\n\nJoin the fun every Thursday (through September 11th) at Rosa Parks Circle.
URL:https://dnngr.org/event/july-dnn-advisory-meeting-2/
LOCATION:MI
CATEGORIES:DNN Meetings
END:VEVENT
END:VCALENDAR