BEGIN:VCALENDAR
VERSION:2.0
PRODID:-//Downtown Neighbor Network - ECPv6.5.0//NONSGML v1.0//EN
CALSCALE:GREGORIAN
METHOD:PUBLISH
X-WR-CALNAME:Downtown Neighbor Network
X-ORIGINAL-URL:https://dnngr.org
X-WR-CALDESC:Events for Downtown Neighbor Network
REFRESH-INTERVAL;VALUE=DURATION:PT1H
X-Robots-Tag:noindex
X-PUBLISHED-TTL:PT1H
BEGIN:VTIMEZONE
TZID:America/Detroit
BEGIN:DAYLIGHT
TZOFFSETFROM:-0500
TZOFFSETTO:-0400
TZNAME:EDT
DTSTART:20230312T070000
END:DAYLIGHT
BEGIN:STANDARD
TZOFFSETFROM:-0400
TZOFFSETTO:-0500
TZNAME:EST
DTSTART:20231105T060000
END:STANDARD
END:VTIMEZONE
BEGIN:VEVENT
DTSTART;TZID=America/Detroit:20230213T180000
DTEND;TZID=America/Detroit:20230213T220000
DTSTAMP:20260421T231531
CREATED:20230119T232219Z
LAST-MODIFIED:20230119T232219Z
UID:2816-1676311200-1676325600@dnngr.org
SUMMARY:Neighbor Night with the Grand Rapids Gold
DESCRIPTION:Relax at Rosa - the free lunchtime entertainment series - is back on Thursday\, May 1 from 12:00 - 1:30 PM.\n\nJoin the fun every Thursday (through September 11th) at Rosa Parks Circle.
URL:https://dnngr.org/event/neighbor-night-with-the-grand-rapids-gold/
LOCATION:Van Andel Arena\, 130 Fulton St W\,\, Grand Rapids\, MI\, 49503
ATTACH;FMTTYPE=image/png:https://dnngr.org/wp-content/uploads/2023/01/GOLD-poster-photo-2.png
END:VEVENT
END:VCALENDAR