BEGIN:VCALENDAR
VERSION:2.0
PRODID:-//Downtown Neighbor Network - ECPv6.5.0//NONSGML v1.0//EN
CALSCALE:GREGORIAN
METHOD:PUBLISH
X-WR-CALNAME:Downtown Neighbor Network
X-ORIGINAL-URL:https://dnngr.org
X-WR-CALDESC:Events for Downtown Neighbor Network
REFRESH-INTERVAL;VALUE=DURATION:PT1H
X-Robots-Tag:noindex
X-PUBLISHED-TTL:PT1H
BEGIN:VTIMEZONE
TZID:America/Detroit
BEGIN:DAYLIGHT
TZOFFSETFROM:-0500
TZOFFSETTO:-0400
TZNAME:EDT
DTSTART:20230312T070000
END:DAYLIGHT
BEGIN:STANDARD
TZOFFSETFROM:-0400
TZOFFSETTO:-0500
TZNAME:EST
DTSTART:20231105T060000
END:STANDARD
END:VTIMEZONE
BEGIN:VEVENT
DTSTART;TZID=America/Detroit:20230118T150000
DTEND;TZID=America/Detroit:20230118T160000
DTSTAMP:20260421T162956
CREATED:20230109T180627Z
LAST-MODIFIED:20230109T181756Z
UID:2680-1674054000-1674057600@dnngr.org
SUMMARY:Food Access Subcommittee Meeting
DESCRIPTION:Relax at Rosa - the free lunchtime entertainment series - is back on Thursday\, May 1 from 12:00 - 1:30 PM.\n\nJoin the fun every Thursday (through September 11th) at Rosa Parks Circle.
URL:https://dnngr.org/event/food-access-mtg/
LOCATION:Lantern Coffee\, 100 Commerce Ave SW\, Grand Rapids\, 49503\, United States
ATTACH;FMTTYPE=image/jpeg:https://dnngr.org/wp-content/uploads/2023/01/Heartside_Gleaning_DGRI_2020_ErikaTownsleyPhoto-32.jpg
ORGANIZER;CN="Kendsie Channing":MAILTO:kchanning@downtowngr.org
END:VEVENT
BEGIN:VEVENT
DTSTART;TZID=America/Detroit:20230120T110000
DTEND;TZID=America/Detroit:20230120T120000
DTSTAMP:20260421T162956
CREATED:20230109T174250Z
LAST-MODIFIED:20230109T181529Z
UID:2653-1674212400-1674216000@dnngr.org
SUMMARY:Safety Subcommittee Meeting
DESCRIPTION:Relax at Rosa - the free lunchtime entertainment series - is back on Thursday\, May 1 from 12:00 - 1:30 PM.\n\nJoin the fun every Thursday (through September 11th) at Rosa Parks Circle.
URL:https://dnngr.org/event/safety-mtg/
LOCATION:Downtown Grand Rapids Inc.\, 29 Pearl St. NW\, Grand Rapids\, MI\, 49503\, United States
ATTACH;FMTTYPE=image/jpeg:https://dnngr.org/wp-content/uploads/2022/11/Ambassadors-101422-38.jpg
END:VEVENT
BEGIN:VEVENT
DTSTART;TZID=America/Detroit:20230202T113000
DTEND;TZID=America/Detroit:20230202T130000
DTSTAMP:20260421T162956
CREATED:20230103T155337Z
LAST-MODIFIED:20230125T185736Z
UID:2590-1675337400-1675342800@dnngr.org
SUMMARY:DNN Advisory Board Meeting
DESCRIPTION:Relax at Rosa - the free lunchtime entertainment series - is back on Thursday\, May 1 from 12:00 - 1:30 PM.\n\nJoin the fun every Thursday (through September 11th) at Rosa Parks Circle.
URL:https://dnngr.org/event/dnn-advisory-02-2023/
LOCATION:River House\, 335 Bridge St. NW\, Grand Rapids\, 94504
CATEGORIES:DNN Meetings
ORGANIZER;CN="Kendsie Channing":MAILTO:kchanning@downtowngr.org
END:VEVENT
BEGIN:VEVENT
DTSTART;TZID=America/Detroit:20230112T120000
DTEND;TZID=America/Detroit:20230112T130000
DTSTAMP:20260421T162956
CREATED:20230109T174959Z
LAST-MODIFIED:20230109T181352Z
UID:2666-1673524800-1673528400@dnngr.org
SUMMARY:Communication Subcommittee Meeting
DESCRIPTION:Relax at Rosa - the free lunchtime entertainment series - is back on Thursday\, May 1 from 12:00 - 1:30 PM.\n\nJoin the fun every Thursday (through September 11th) at Rosa Parks Circle.
URL:https://dnngr.org/event/comms-mtg/
LOCATION:Downtown Grand Rapids Inc.\, 29 Pearl St. NW\, Grand Rapids\, MI\, 49503\, United States
ATTACH;FMTTYPE=image/jpeg:https://dnngr.org/wp-content/uploads/2022/06/neighbor-meet-n-greet-w-CM-1-scaled.jpg
END:VEVENT
BEGIN:VEVENT
DTSTART;TZID=America/Detroit:20230213T180000
DTEND;TZID=America/Detroit:20230213T220000
DTSTAMP:20260421T162956
CREATED:20230119T232219Z
LAST-MODIFIED:20230119T232219Z
UID:2816-1676311200-1676325600@dnngr.org
SUMMARY:Neighbor Night with the Grand Rapids Gold
DESCRIPTION:Relax at Rosa - the free lunchtime entertainment series - is back on Thursday\, May 1 from 12:00 - 1:30 PM.\n\nJoin the fun every Thursday (through September 11th) at Rosa Parks Circle.
URL:https://dnngr.org/event/neighbor-night-with-the-grand-rapids-gold/
LOCATION:Van Andel Arena\, 130 Fulton St W\,\, Grand Rapids\, MI\, 49503
ATTACH;FMTTYPE=image/png:https://dnngr.org/wp-content/uploads/2023/01/GOLD-poster-photo-2.png
END:VEVENT
BEGIN:VEVENT
DTSTART;TZID=America/Detroit:20230118T150000
DTEND;TZID=America/Detroit:20230118T160000
DTSTAMP:20260421T162956
CREATED:20230109T180627Z
LAST-MODIFIED:20230109T181756Z
UID:2680-1674054000-1674057600@dnngr.org
SUMMARY:Food Access Subcommittee Meeting
DESCRIPTION:Relax at Rosa - the free lunchtime entertainment series - is back on Thursday\, May 1 from 12:00 - 1:30 PM.\n\nJoin the fun every Thursday (through September 11th) at Rosa Parks Circle.
URL:https://dnngr.org/event/food-access-mtg/
LOCATION:Lantern Coffee\, 100 Commerce Ave SW\, Grand Rapids\, 49503\, United States
ATTACH;FMTTYPE=image/jpeg:https://dnngr.org/wp-content/uploads/2023/01/Heartside_Gleaning_DGRI_2020_ErikaTownsleyPhoto-32.jpg
ORGANIZER;CN="Kendsie Channing":MAILTO:kchanning@downtowngr.org
END:VEVENT
BEGIN:VEVENT
DTSTART;TZID=America/Detroit:20230120T110000
DTEND;TZID=America/Detroit:20230120T120000
DTSTAMP:20260421T162956
CREATED:20230109T174250Z
LAST-MODIFIED:20230109T181529Z
UID:2653-1674212400-1674216000@dnngr.org
SUMMARY:Safety Subcommittee Meeting
DESCRIPTION:Relax at Rosa - the free lunchtime entertainment series - is back on Thursday\, May 1 from 12:00 - 1:30 PM.\n\nJoin the fun every Thursday (through September 11th) at Rosa Parks Circle.
URL:https://dnngr.org/event/safety-mtg/
LOCATION:Downtown Grand Rapids Inc.\, 29 Pearl St. NW\, Grand Rapids\, MI\, 49503\, United States
ATTACH;FMTTYPE=image/jpeg:https://dnngr.org/wp-content/uploads/2022/11/Ambassadors-101422-38.jpg
END:VEVENT
BEGIN:VEVENT
DTSTART;TZID=America/Detroit:20230218T120000
DTEND;TZID=America/Detroit:20230218T160000
DTSTAMP:20260421T162956
CREATED:20230119T201035Z
LAST-MODIFIED:20230119T201035Z
UID:2795-1676721600-1676736000@dnngr.org
SUMMARY:Neighborhood Warming Station
DESCRIPTION:Relax at Rosa - the free lunchtime entertainment series - is back on Thursday\, May 1 from 12:00 - 1:30 PM.\n\nJoin the fun every Thursday (through September 11th) at Rosa Parks Circle.
URL:https://dnngr.org/event/warming-station/
LOCATION:57 Monroe Center St NE\, 57 Monroe Center St NE\, Grand Rapids\, MI\, 49503\, United States
ATTACH;FMTTYPE=image/jpeg:https://dnngr.org/wp-content/uploads/2023/01/WoW-GlowItUp-010623-144-arw_DxO.jpg
END:VEVENT
BEGIN:VEVENT
DTSTART;TZID=America/Detroit:20230116T143000
DTEND;TZID=America/Detroit:20230116T153000
DTSTAMP:20260421T162956
CREATED:20230109T171050Z
LAST-MODIFIED:20230109T181439Z
UID:2640-1673879400-1673883000@dnngr.org
SUMMARY:Events Subcommittee Meeting
DESCRIPTION:Relax at Rosa - the free lunchtime entertainment series - is back on Thursday\, May 1 from 12:00 - 1:30 PM.\n\nJoin the fun every Thursday (through September 11th) at Rosa Parks Circle.
URL:https://dnngr.org/event/events-sub-mtg/
LOCATION:Downtown Grand Rapids Inc.\, 29 Pearl St. NW\, Grand Rapids\, MI\, 49503\, United States
ATTACH;FMTTYPE=image/jpeg:https://dnngr.org/wp-content/uploads/2023/01/ETPhoto-1321.jpg
ORGANIZER;CN="Kendsie Channing":MAILTO:kchanning@downtowngr.org
END:VEVENT
BEGIN:VEVENT
DTSTART;TZID=America/Detroit:20230306T173000
DTEND;TZID=America/Detroit:20230306T190000
DTSTAMP:20260421T162956
CREATED:20230119T222030Z
LAST-MODIFIED:20230216T200828Z
UID:2803-1678123800-1678129200@dnngr.org
SUMMARY:Meet N' Greet: Ward 1 Commissioner Drew Robbins
DESCRIPTION:Relax at Rosa - the free lunchtime entertainment series - is back on Thursday\, May 1 from 12:00 - 1:30 PM.\n\nJoin the fun every Thursday (through September 11th) at Rosa Parks Circle.
URL:https://dnngr.org/event/meet-dr-ward-1/
LOCATION:106 Divison Ave S\, 106 Division Ave S\, Grand Rapids\, MI\, 49503\, United States
ATTACH;FMTTYPE=image/png:https://dnngr.org/wp-content/uploads/2023/01/1.png
END:VEVENT
BEGIN:VEVENT
DTSTART;TZID=America/Detroit:20230112T120000
DTEND;TZID=America/Detroit:20230112T130000
DTSTAMP:20260421T162956
CREATED:20230109T174959Z
LAST-MODIFIED:20230109T181352Z
UID:2666-1673524800-1673528400@dnngr.org
SUMMARY:Communication Subcommittee Meeting
DESCRIPTION:Relax at Rosa - the free lunchtime entertainment series - is back on Thursday\, May 1 from 12:00 - 1:30 PM.\n\nJoin the fun every Thursday (through September 11th) at Rosa Parks Circle.
URL:https://dnngr.org/event/comms-mtg/
LOCATION:Downtown Grand Rapids Inc.\, 29 Pearl St. NW\, Grand Rapids\, MI\, 49503\, United States
ATTACH;FMTTYPE=image/jpeg:https://dnngr.org/wp-content/uploads/2022/06/neighbor-meet-n-greet-w-CM-1-scaled.jpg
END:VEVENT
BEGIN:VEVENT
DTSTART;TZID=America/Detroit:20230309T173000
DTEND;TZID=America/Detroit:20230309T190000
DTSTAMP:20260421T162956
CREATED:20230119T222623Z
LAST-MODIFIED:20230119T222623Z
UID:2811-1678383000-1678388400@dnngr.org
SUMMARY:Meet N' Greet: Ward 2 Commissioner Lisa Knight
DESCRIPTION:Relax at Rosa - the free lunchtime entertainment series - is back on Thursday\, May 1 from 12:00 - 1:30 PM.\n\nJoin the fun every Thursday (through September 11th) at Rosa Parks Circle.
URL:https://dnngr.org/event/meet-lk-ward-2/
LOCATION:Downtown Grand Rapids Inc.\, 29 Pearl St. NW\, Grand Rapids\, MI\, 49503\, United States
ATTACH;FMTTYPE=image/png:https://dnngr.org/wp-content/uploads/2023/01/2.png
END:VEVENT
BEGIN:VEVENT
DTSTART;TZID=America/Detroit:20230118T150000
DTEND;TZID=America/Detroit:20230118T160000
DTSTAMP:20260421T162956
CREATED:20230109T180627Z
LAST-MODIFIED:20230109T181756Z
UID:2680-1674054000-1674057600@dnngr.org
SUMMARY:Food Access Subcommittee Meeting
DESCRIPTION:Relax at Rosa - the free lunchtime entertainment series - is back on Thursday\, May 1 from 12:00 - 1:30 PM.\n\nJoin the fun every Thursday (through September 11th) at Rosa Parks Circle.
URL:https://dnngr.org/event/food-access-mtg/
LOCATION:Lantern Coffee\, 100 Commerce Ave SW\, Grand Rapids\, 49503\, United States
ATTACH;FMTTYPE=image/jpeg:https://dnngr.org/wp-content/uploads/2023/01/Heartside_Gleaning_DGRI_2020_ErikaTownsleyPhoto-32.jpg
ORGANIZER;CN="Kendsie Channing":MAILTO:kchanning@downtowngr.org
END:VEVENT
BEGIN:VEVENT
DTSTART;TZID=America/Detroit:20230120T110000
DTEND;TZID=America/Detroit:20230120T120000
DTSTAMP:20260421T162956
CREATED:20230109T174250Z
LAST-MODIFIED:20230109T181529Z
UID:2653-1674212400-1674216000@dnngr.org
SUMMARY:Safety Subcommittee Meeting
DESCRIPTION:Relax at Rosa - the free lunchtime entertainment series - is back on Thursday\, May 1 from 12:00 - 1:30 PM.\n\nJoin the fun every Thursday (through September 11th) at Rosa Parks Circle.
URL:https://dnngr.org/event/safety-mtg/
LOCATION:Downtown Grand Rapids Inc.\, 29 Pearl St. NW\, Grand Rapids\, MI\, 49503\, United States
ATTACH;FMTTYPE=image/jpeg:https://dnngr.org/wp-content/uploads/2022/11/Ambassadors-101422-38.jpg
END:VEVENT
BEGIN:VEVENT
DTSTART;TZID=America/Detroit:20230116T143000
DTEND;TZID=America/Detroit:20230116T153000
DTSTAMP:20260421T162956
CREATED:20230109T171050Z
LAST-MODIFIED:20230109T181439Z
UID:2640-1673879400-1673883000@dnngr.org
SUMMARY:Events Subcommittee Meeting
DESCRIPTION:Relax at Rosa - the free lunchtime entertainment series - is back on Thursday\, May 1 from 12:00 - 1:30 PM.\n\nJoin the fun every Thursday (through September 11th) at Rosa Parks Circle.
URL:https://dnngr.org/event/events-sub-mtg/
LOCATION:Downtown Grand Rapids Inc.\, 29 Pearl St. NW\, Grand Rapids\, MI\, 49503\, United States
ATTACH;FMTTYPE=image/jpeg:https://dnngr.org/wp-content/uploads/2023/01/ETPhoto-1321.jpg
ORGANIZER;CN="Kendsie Channing":MAILTO:kchanning@downtowngr.org
END:VEVENT
BEGIN:VEVENT
DTSTART;TZID=America/Detroit:20230112T120000
DTEND;TZID=America/Detroit:20230112T130000
DTSTAMP:20260421T162956
CREATED:20230109T174959Z
LAST-MODIFIED:20230109T181352Z
UID:2666-1673524800-1673528400@dnngr.org
SUMMARY:Communication Subcommittee Meeting
DESCRIPTION:Relax at Rosa - the free lunchtime entertainment series - is back on Thursday\, May 1 from 12:00 - 1:30 PM.\n\nJoin the fun every Thursday (through September 11th) at Rosa Parks Circle.
URL:https://dnngr.org/event/comms-mtg/
LOCATION:Downtown Grand Rapids Inc.\, 29 Pearl St. NW\, Grand Rapids\, MI\, 49503\, United States
ATTACH;FMTTYPE=image/jpeg:https://dnngr.org/wp-content/uploads/2022/06/neighbor-meet-n-greet-w-CM-1-scaled.jpg
END:VEVENT
BEGIN:VEVENT
DTSTART;TZID=America/Detroit:20230116T143000
DTEND;TZID=America/Detroit:20230116T153000
DTSTAMP:20260421T162956
CREATED:20230109T171050Z
LAST-MODIFIED:20230109T181439Z
UID:2640-1673879400-1673883000@dnngr.org
SUMMARY:Events Subcommittee Meeting
DESCRIPTION:Relax at Rosa - the free lunchtime entertainment series - is back on Thursday\, May 1 from 12:00 - 1:30 PM.\n\nJoin the fun every Thursday (through September 11th) at Rosa Parks Circle.
URL:https://dnngr.org/event/events-sub-mtg/
LOCATION:Downtown Grand Rapids Inc.\, 29 Pearl St. NW\, Grand Rapids\, MI\, 49503\, United States
ATTACH;FMTTYPE=image/jpeg:https://dnngr.org/wp-content/uploads/2023/01/ETPhoto-1321.jpg
ORGANIZER;CN="Kendsie Channing":MAILTO:kchanning@downtowngr.org
END:VEVENT
BEGIN:VEVENT
DTSTART;TZID=America/Detroit:20230118T150000
DTEND;TZID=America/Detroit:20230118T160000
DTSTAMP:20260421T162956
CREATED:20230109T180627Z
LAST-MODIFIED:20230109T181756Z
UID:2680-1674054000-1674057600@dnngr.org
SUMMARY:Food Access Subcommittee Meeting
DESCRIPTION:Relax at Rosa - the free lunchtime entertainment series - is back on Thursday\, May 1 from 12:00 - 1:30 PM.\n\nJoin the fun every Thursday (through September 11th) at Rosa Parks Circle.
URL:https://dnngr.org/event/food-access-mtg/
LOCATION:Lantern Coffee\, 100 Commerce Ave SW\, Grand Rapids\, 49503\, United States
ATTACH;FMTTYPE=image/jpeg:https://dnngr.org/wp-content/uploads/2023/01/Heartside_Gleaning_DGRI_2020_ErikaTownsleyPhoto-32.jpg
ORGANIZER;CN="Kendsie Channing":MAILTO:kchanning@downtowngr.org
END:VEVENT
BEGIN:VEVENT
DTSTART;TZID=America/Detroit:20230120T110000
DTEND;TZID=America/Detroit:20230120T120000
DTSTAMP:20260421T162956
CREATED:20230109T174250Z
LAST-MODIFIED:20230109T181529Z
UID:2653-1674212400-1674216000@dnngr.org
SUMMARY:Safety Subcommittee Meeting
DESCRIPTION:Relax at Rosa - the free lunchtime entertainment series - is back on Thursday\, May 1 from 12:00 - 1:30 PM.\n\nJoin the fun every Thursday (through September 11th) at Rosa Parks Circle.
URL:https://dnngr.org/event/safety-mtg/
LOCATION:Downtown Grand Rapids Inc.\, 29 Pearl St. NW\, Grand Rapids\, MI\, 49503\, United States
ATTACH;FMTTYPE=image/jpeg:https://dnngr.org/wp-content/uploads/2022/11/Ambassadors-101422-38.jpg
END:VEVENT
BEGIN:VEVENT
DTSTART;TZID=America/Detroit:20230112T120000
DTEND;TZID=America/Detroit:20230112T130000
DTSTAMP:20260421T162956
CREATED:20230109T174959Z
LAST-MODIFIED:20230109T181352Z
UID:2666-1673524800-1673528400@dnngr.org
SUMMARY:Communication Subcommittee Meeting
DESCRIPTION:Relax at Rosa - the free lunchtime entertainment series - is back on Thursday\, May 1 from 12:00 - 1:30 PM.\n\nJoin the fun every Thursday (through September 11th) at Rosa Parks Circle.
URL:https://dnngr.org/event/comms-mtg/
LOCATION:Downtown Grand Rapids Inc.\, 29 Pearl St. NW\, Grand Rapids\, MI\, 49503\, United States
ATTACH;FMTTYPE=image/jpeg:https://dnngr.org/wp-content/uploads/2022/06/neighbor-meet-n-greet-w-CM-1-scaled.jpg
END:VEVENT
BEGIN:VEVENT
DTSTART;TZID=America/Detroit:20230116T143000
DTEND;TZID=America/Detroit:20230116T153000
DTSTAMP:20260421T162956
CREATED:20230109T171050Z
LAST-MODIFIED:20230109T181439Z
UID:2640-1673879400-1673883000@dnngr.org
SUMMARY:Events Subcommittee Meeting
DESCRIPTION:Relax at Rosa - the free lunchtime entertainment series - is back on Thursday\, May 1 from 12:00 - 1:30 PM.\n\nJoin the fun every Thursday (through September 11th) at Rosa Parks Circle.
URL:https://dnngr.org/event/events-sub-mtg/
LOCATION:Downtown Grand Rapids Inc.\, 29 Pearl St. NW\, Grand Rapids\, MI\, 49503\, United States
ATTACH;FMTTYPE=image/jpeg:https://dnngr.org/wp-content/uploads/2023/01/ETPhoto-1321.jpg
ORGANIZER;CN="Kendsie Channing":MAILTO:kchanning@downtowngr.org
END:VEVENT
BEGIN:VEVENT
DTSTART;TZID=America/Detroit:20230118T150000
DTEND;TZID=America/Detroit:20230118T160000
DTSTAMP:20260421T162956
CREATED:20230109T180627Z
LAST-MODIFIED:20230109T181756Z
UID:2680-1674054000-1674057600@dnngr.org
SUMMARY:Food Access Subcommittee Meeting
DESCRIPTION:Relax at Rosa - the free lunchtime entertainment series - is back on Thursday\, May 1 from 12:00 - 1:30 PM.\n\nJoin the fun every Thursday (through September 11th) at Rosa Parks Circle.
URL:https://dnngr.org/event/food-access-mtg/
LOCATION:Lantern Coffee\, 100 Commerce Ave SW\, Grand Rapids\, 49503\, United States
ATTACH;FMTTYPE=image/jpeg:https://dnngr.org/wp-content/uploads/2023/01/Heartside_Gleaning_DGRI_2020_ErikaTownsleyPhoto-32.jpg
ORGANIZER;CN="Kendsie Channing":MAILTO:kchanning@downtowngr.org
END:VEVENT
BEGIN:VEVENT
DTSTART;TZID=America/Detroit:20230120T110000
DTEND;TZID=America/Detroit:20230120T120000
DTSTAMP:20260421T162956
CREATED:20230109T174250Z
LAST-MODIFIED:20230109T181529Z
UID:2653-1674212400-1674216000@dnngr.org
SUMMARY:Safety Subcommittee Meeting
DESCRIPTION:Relax at Rosa - the free lunchtime entertainment series - is back on Thursday\, May 1 from 12:00 - 1:30 PM.\n\nJoin the fun every Thursday (through September 11th) at Rosa Parks Circle.
URL:https://dnngr.org/event/safety-mtg/
LOCATION:Downtown Grand Rapids Inc.\, 29 Pearl St. NW\, Grand Rapids\, MI\, 49503\, United States
ATTACH;FMTTYPE=image/jpeg:https://dnngr.org/wp-content/uploads/2022/11/Ambassadors-101422-38.jpg
END:VEVENT
BEGIN:VEVENT
DTSTART;TZID=America/Detroit:20230601T113000
DTEND;TZID=America/Detroit:20230601T130000
DTSTAMP:20260421T162956
CREATED:20230501T145337Z
LAST-MODIFIED:20230501T181130Z
UID:2597-1685619000-1685624400@dnngr.org
SUMMARY:DNN Advisory Board Meeting
DESCRIPTION:Relax at Rosa - the free lunchtime entertainment series - is back on Thursday\, May 1 from 12:00 - 1:30 PM.\n\nJoin the fun every Thursday (through September 11th) at Rosa Parks Circle.
URL:https://dnngr.org/event/dnn-advisory-05-04-2023/
LOCATION:Downtown Grand Rapids Inc.\, 29 Pearl St. NW\, Grand Rapids\, MI\, 49503\, United States
CATEGORIES:DNN Meetings
ORGANIZER;CN="Kendsie Channing":MAILTO:kchanning@downtowngr.org
END:VEVENT
BEGIN:VEVENT
DTSTART;TZID=America/Detroit:20230112T120000
DTEND;TZID=America/Detroit:20230112T130000
DTSTAMP:20260421T162956
CREATED:20230109T174959Z
LAST-MODIFIED:20230109T181352Z
UID:2666-1673524800-1673528400@dnngr.org
SUMMARY:Communication Subcommittee Meeting
DESCRIPTION:Relax at Rosa - the free lunchtime entertainment series - is back on Thursday\, May 1 from 12:00 - 1:30 PM.\n\nJoin the fun every Thursday (through September 11th) at Rosa Parks Circle.
URL:https://dnngr.org/event/comms-mtg/
LOCATION:Downtown Grand Rapids Inc.\, 29 Pearl St. NW\, Grand Rapids\, MI\, 49503\, United States
ATTACH;FMTTYPE=image/jpeg:https://dnngr.org/wp-content/uploads/2022/06/neighbor-meet-n-greet-w-CM-1-scaled.jpg
END:VEVENT
BEGIN:VEVENT
DTSTART;TZID=America/Detroit:20230120T110000
DTEND;TZID=America/Detroit:20230120T120000
DTSTAMP:20260421T162956
CREATED:20230109T174250Z
LAST-MODIFIED:20230109T181529Z
UID:2653-1674212400-1674216000@dnngr.org
SUMMARY:Safety Subcommittee Meeting
DESCRIPTION:Relax at Rosa - the free lunchtime entertainment series - is back on Thursday\, May 1 from 12:00 - 1:30 PM.\n\nJoin the fun every Thursday (through September 11th) at Rosa Parks Circle.
URL:https://dnngr.org/event/safety-mtg/
LOCATION:Downtown Grand Rapids Inc.\, 29 Pearl St. NW\, Grand Rapids\, MI\, 49503\, United States
ATTACH;FMTTYPE=image/jpeg:https://dnngr.org/wp-content/uploads/2022/11/Ambassadors-101422-38.jpg
END:VEVENT
BEGIN:VEVENT
DTSTART;TZID=America/Detroit:20230116T143000
DTEND;TZID=America/Detroit:20230116T153000
DTSTAMP:20260421T162956
CREATED:20230109T171050Z
LAST-MODIFIED:20230109T181439Z
UID:2640-1673879400-1673883000@dnngr.org
SUMMARY:Events Subcommittee Meeting
DESCRIPTION:Relax at Rosa - the free lunchtime entertainment series - is back on Thursday\, May 1 from 12:00 - 1:30 PM.\n\nJoin the fun every Thursday (through September 11th) at Rosa Parks Circle.
URL:https://dnngr.org/event/events-sub-mtg/
LOCATION:Downtown Grand Rapids Inc.\, 29 Pearl St. NW\, Grand Rapids\, MI\, 49503\, United States
ATTACH;FMTTYPE=image/jpeg:https://dnngr.org/wp-content/uploads/2023/01/ETPhoto-1321.jpg
ORGANIZER;CN="Kendsie Channing":MAILTO:kchanning@downtowngr.org
END:VEVENT
BEGIN:VEVENT
DTSTART;TZID=America/Detroit:20230118T150000
DTEND;TZID=America/Detroit:20230118T160000
DTSTAMP:20260421T162956
CREATED:20230109T180627Z
LAST-MODIFIED:20230109T181756Z
UID:2680-1674054000-1674057600@dnngr.org
SUMMARY:Food Access Subcommittee Meeting
DESCRIPTION:Relax at Rosa - the free lunchtime entertainment series - is back on Thursday\, May 1 from 12:00 - 1:30 PM.\n\nJoin the fun every Thursday (through September 11th) at Rosa Parks Circle.
URL:https://dnngr.org/event/food-access-mtg/
LOCATION:Lantern Coffee\, 100 Commerce Ave SW\, Grand Rapids\, 49503\, United States
ATTACH;FMTTYPE=image/jpeg:https://dnngr.org/wp-content/uploads/2023/01/Heartside_Gleaning_DGRI_2020_ErikaTownsleyPhoto-32.jpg
ORGANIZER;CN="Kendsie Channing":MAILTO:kchanning@downtowngr.org
END:VEVENT
BEGIN:VEVENT
DTSTART;TZID=America/Detroit:20230707T090000
DTEND;TZID=America/Detroit:20230707T130000
DTSTAMP:20260421T162956
CREATED:20230630T125337Z
LAST-MODIFIED:20230630T130911Z
UID:2601-1688720400-1688734800@dnngr.org
SUMMARY:DNN Advisory Board Meeting
DESCRIPTION:Relax at Rosa - the free lunchtime entertainment series - is back on Thursday\, May 1 from 12:00 - 1:30 PM.\n\nJoin the fun every Thursday (through September 11th) at Rosa Parks Circle.
URL:https://dnngr.org/event/dnn-advisory-05-04-2023-2023-07-06/
LOCATION:Hillcrest Community Garden
CATEGORIES:DNN Meetings
ORGANIZER;CN="Kendsie Channing":MAILTO:kchanning@downtowngr.org
END:VEVENT
BEGIN:VEVENT
DTSTART;TZID=America/Detroit:20230112T120000
DTEND;TZID=America/Detroit:20230112T130000
DTSTAMP:20260421T162956
CREATED:20230109T174959Z
LAST-MODIFIED:20230109T181352Z
UID:2666-1673524800-1673528400@dnngr.org
SUMMARY:Communication Subcommittee Meeting
DESCRIPTION:Relax at Rosa - the free lunchtime entertainment series - is back on Thursday\, May 1 from 12:00 - 1:30 PM.\n\nJoin the fun every Thursday (through September 11th) at Rosa Parks Circle.
URL:https://dnngr.org/event/comms-mtg/
LOCATION:Downtown Grand Rapids Inc.\, 29 Pearl St. NW\, Grand Rapids\, MI\, 49503\, United States
ATTACH;FMTTYPE=image/jpeg:https://dnngr.org/wp-content/uploads/2022/06/neighbor-meet-n-greet-w-CM-1-scaled.jpg
END:VEVENT
END:VCALENDAR