BEGIN:VCALENDAR
VERSION:2.0
PRODID:-//Downtown Neighbor Network - ECPv6.5.0//NONSGML v1.0//EN
CALSCALE:GREGORIAN
METHOD:PUBLISH
X-ORIGINAL-URL:https://dnngr.org
X-WR-CALDESC:Events for Downtown Neighbor Network
REFRESH-INTERVAL;VALUE=DURATION:PT1H
X-Robots-Tag:noindex
X-PUBLISHED-TTL:PT1H
BEGIN:VTIMEZONE
TZID:America/Detroit
BEGIN:DAYLIGHT
TZOFFSETFROM:-0500
TZOFFSETTO:-0400
TZNAME:EDT
DTSTART:20240310T070000
END:DAYLIGHT
BEGIN:STANDARD
TZOFFSETFROM:-0400
TZOFFSETTO:-0500
TZNAME:EST
DTSTART:20241103T060000
END:STANDARD
BEGIN:DAYLIGHT
TZOFFSETFROM:-0500
TZOFFSETTO:-0400
TZNAME:EDT
DTSTART:20250309T070000
END:DAYLIGHT
BEGIN:STANDARD
TZOFFSETFROM:-0400
TZOFFSETTO:-0500
TZNAME:EST
DTSTART:20251102T060000
END:STANDARD
END:VTIMEZONE
BEGIN:VEVENT
DTSTART;TZID=America/Detroit:20240111T100000
DTEND;TZID=America/Detroit:20240111T110000
DTSTAMP:20260425T100654
CREATED:20231221T000702Z
LAST-MODIFIED:20240129T144741Z
UID:4054-1704967200-1704970800@dnngr.org
SUMMARY:Outreach
DESCRIPTION:Join your neighbors to get the word out! The outreach committee focuses on communicating about events\, learning opportunities\, and pertinent information that Downtown neighbors need to know. \nEvery second Thursday of the month at 10 AM at DGRI’s office (29 Pearl St. NW). \nWe’re focusing on connecting more neighbors to the information they need to know to build relationships in the neighborhood. \nSome ideas: developing a Building Champion program to tap into each of the 86 residential buildings in our Downtown\, creating a New Neighbor guide for Downtown living\, and continuing to build out the Downtown Neighbor Perks program. \nMeeting dates: \n\nJanuary 11\nFebruary 8\nMarch 14\nApril 11\nMay 9\nJune 13\nJuly 11\nAugust 8\nSeptember 12\nOctober 10\nNovember 14\nDecember 12
URL:https://dnngr.org/event/outreach/
CATEGORIES:Subcommittee
ATTACH;FMTTYPE=image/jpeg:https://dnngr.org/wp-content/uploads/2023/10/DGRI-DNNNightOut-080123-169.jpg
ORGANIZER;CN="Kendsie Channing":MAILTO:kchanning@downtowngr.org
END:VEVENT
BEGIN:VEVENT
DTSTART;TZID=America/Detroit:20250904T120000
DTEND;TZID=America/Detroit:20250904T133000
DTSTAMP:20260425T100654
CREATED:20250827T130448Z
LAST-MODIFIED:20250827T130743Z
UID:4647-1756987200-1756992600@dnngr.org
SUMMARY:Relax at Rosa
DESCRIPTION:Relax at Rosa – the free lunchtime entertainment series – is back on Thursday\, May 1 from 12:00 – 1:30 PM.\nJoin the fun every Thursday (through September 11th) at Rosa Parks Circle.
URL:https://dnngr.org/event/relax-at-rosa/
LOCATION:Rosa Parks Circle\, 135 Monroe Center St NW\, Grand Rapids\, MI 49503\, Grand Rapids\, MI\, 49503\, United States
CATEGORIES:Downtown Event
END:VEVENT
END:VCALENDAR