BEGIN:VCALENDAR
VERSION:2.0
PRODID:-//Downtown Neighbor Network - ECPv6.5.0//NONSGML v1.0//EN
CALSCALE:GREGORIAN
METHOD:PUBLISH
X-WR-CALNAME:Downtown Neighbor Network
X-ORIGINAL-URL:https://dnngr.org
X-WR-CALDESC:Events for Downtown Neighbor Network
REFRESH-INTERVAL;VALUE=DURATION:PT1H
X-Robots-Tag:noindex
X-PUBLISHED-TTL:PT1H
BEGIN:VTIMEZONE
TZID:America/Detroit
BEGIN:DAYLIGHT
TZOFFSETFROM:-0500
TZOFFSETTO:-0400
TZNAME:EDT
DTSTART:20220313T070000
END:DAYLIGHT
BEGIN:STANDARD
TZOFFSETFROM:-0400
TZOFFSETTO:-0500
TZNAME:EST
DTSTART:20221106T060000
END:STANDARD
END:VTIMEZONE
BEGIN:VEVENT
DTSTART;TZID=America/Detroit:20221201T113000
DTEND;TZID=America/Detroit:20221201T130000
DTSTAMP:20260421T202420
CREATED:20221128T174324Z
LAST-MODIFIED:20221128T174324Z
UID:2536-1669894200-1669899600@dnngr.org
SUMMARY:December DNN Advisory Board Meeting
DESCRIPTION:Relax at Rosa - the free lunchtime entertainment series - is back on Thursday\, May 1 from 12:00 - 1:30 PM.\n\nJoin the fun every Thursday (through September 11th) at Rosa Parks Circle.
URL:https://dnngr.org/event/december-dnn-advisory-mtg/
LOCATION:Downtown Grand Rapids Inc.\, 29 Pearl St. NW\, Grand Rapids\, MI\, 49503\, United States
CATEGORIES:DNN Meetings
END:VEVENT
END:VCALENDAR