BEGIN:VCALENDAR
VERSION:2.0
PRODID:-//Downtown Neighbor Network - ECPv6.5.0//NONSGML v1.0//EN
CALSCALE:GREGORIAN
METHOD:PUBLISH
X-ORIGINAL-URL:https://dnngr.org
X-WR-CALDESC:Events for Downtown Neighbor Network
REFRESH-INTERVAL;VALUE=DURATION:PT1H
X-Robots-Tag:noindex
X-PUBLISHED-TTL:PT1H
BEGIN:VTIMEZONE
TZID:America/Detroit
BEGIN:DAYLIGHT
TZOFFSETFROM:-0500
TZOFFSETTO:-0400
TZNAME:EDT
DTSTART:20230312T070000
END:DAYLIGHT
BEGIN:STANDARD
TZOFFSETFROM:-0400
TZOFFSETTO:-0500
TZNAME:EST
DTSTART:20231105T060000
END:STANDARD
END:VTIMEZONE
BEGIN:VEVENT
DTSTART;TZID=America/Detroit:20230112T120000
DTEND;TZID=America/Detroit:20230112T130000
DTSTAMP:20260421T190703
CREATED:20230109T174959Z
LAST-MODIFIED:20230109T181352Z
UID:2666-1673524800-1673528400@dnngr.org
SUMMARY:Communication Subcommittee Meeting
DESCRIPTION:Relax at Rosa - the free lunchtime entertainment series - is back on Thursday\, May 1 from 12:00 - 1:30 PM.\n\nJoin the fun every Thursday (through September 11th) at Rosa Parks Circle.
URL:https://dnngr.org/event/comms-mtg/
LOCATION:Downtown Grand Rapids Inc.\, 29 Pearl St. NW\, Grand Rapids\, MI\, 49503\, United States
ATTACH;FMTTYPE=image/jpeg:https://dnngr.org/wp-content/uploads/2022/06/neighbor-meet-n-greet-w-CM-1-scaled.jpg
END:VEVENT
BEGIN:VEVENT
DTSTART;TZID=America/Detroit:20230116T143000
DTEND;TZID=America/Detroit:20230116T153000
DTSTAMP:20260421T190703
CREATED:20230109T171050Z
LAST-MODIFIED:20230109T181439Z
UID:2640-1673879400-1673883000@dnngr.org
SUMMARY:Events Subcommittee Meeting
DESCRIPTION:Relax at Rosa - the free lunchtime entertainment series - is back on Thursday\, May 1 from 12:00 - 1:30 PM.\n\nJoin the fun every Thursday (through September 11th) at Rosa Parks Circle.
URL:https://dnngr.org/event/events-sub-mtg/
LOCATION:Downtown Grand Rapids Inc.\, 29 Pearl St. NW\, Grand Rapids\, MI\, 49503\, United States
ATTACH;FMTTYPE=image/jpeg:https://dnngr.org/wp-content/uploads/2023/01/ETPhoto-1321.jpg
ORGANIZER;CN="Kendsie Channing":MAILTO:kchanning@downtowngr.org
END:VEVENT
BEGIN:VEVENT
DTSTART;TZID=America/Detroit:20230118T150000
DTEND;TZID=America/Detroit:20230118T160000
DTSTAMP:20260421T190703
CREATED:20230109T180627Z
LAST-MODIFIED:20230109T181756Z
UID:2680-1674054000-1674057600@dnngr.org
SUMMARY:Food Access Subcommittee Meeting
DESCRIPTION:Relax at Rosa - the free lunchtime entertainment series - is back on Thursday\, May 1 from 12:00 - 1:30 PM.\n\nJoin the fun every Thursday (through September 11th) at Rosa Parks Circle.
URL:https://dnngr.org/event/food-access-mtg/
LOCATION:Lantern Coffee\, 100 Commerce Ave SW\, Grand Rapids\, 49503\, United States
ATTACH;FMTTYPE=image/jpeg:https://dnngr.org/wp-content/uploads/2023/01/Heartside_Gleaning_DGRI_2020_ErikaTownsleyPhoto-32.jpg
ORGANIZER;CN="Kendsie Channing":MAILTO:kchanning@downtowngr.org
END:VEVENT
BEGIN:VEVENT
DTSTART;TZID=America/Detroit:20230120T110000
DTEND;TZID=America/Detroit:20230120T120000
DTSTAMP:20260421T190703
CREATED:20230109T174250Z
LAST-MODIFIED:20230109T181529Z
UID:2653-1674212400-1674216000@dnngr.org
SUMMARY:Safety Subcommittee Meeting
DESCRIPTION:Relax at Rosa - the free lunchtime entertainment series - is back on Thursday\, May 1 from 12:00 - 1:30 PM.\n\nJoin the fun every Thursday (through September 11th) at Rosa Parks Circle.
URL:https://dnngr.org/event/safety-mtg/
LOCATION:Downtown Grand Rapids Inc.\, 29 Pearl St. NW\, Grand Rapids\, MI\, 49503\, United States
ATTACH;FMTTYPE=image/jpeg:https://dnngr.org/wp-content/uploads/2022/11/Ambassadors-101422-38.jpg
END:VEVENT
END:VCALENDAR