BEGIN:VCALENDAR
VERSION:2.0
PRODID:-//Downtown Neighbor Network - ECPv6.5.0//NONSGML v1.0//EN
CALSCALE:GREGORIAN
METHOD:PUBLISH
X-WR-CALNAME:Downtown Neighbor Network
X-ORIGINAL-URL:https://dnngr.org
X-WR-CALDESC:Events for Downtown Neighbor Network
REFRESH-INTERVAL;VALUE=DURATION:PT1H
X-Robots-Tag:noindex
X-PUBLISHED-TTL:PT1H
BEGIN:VTIMEZONE
TZID:America/Detroit
BEGIN:DAYLIGHT
TZOFFSETFROM:-0500
TZOFFSETTO:-0400
TZNAME:EDT
DTSTART:20240310T070000
END:DAYLIGHT
BEGIN:STANDARD
TZOFFSETFROM:-0400
TZOFFSETTO:-0500
TZNAME:EST
DTSTART:20241103T060000
END:STANDARD
END:VTIMEZONE
BEGIN:VEVENT
DTSTART;TZID=America/Detroit:20240108T170000
DTEND;TZID=America/Detroit:20240108T180000
DTSTAMP:20260421T001442
CREATED:20231220T212927Z
LAST-MODIFIED:20240201T191240Z
UID:4039-1704733200-1704736800@dnngr.org
SUMMARY:Mobility
DESCRIPTION:Relax at Rosa - the free lunchtime entertainment series - is back on Thursday\, May 1 from 12:00 - 1:30 PM.\n\nJoin the fun every Thursday (through September 11th) at Rosa Parks Circle.
URL:https://dnngr.org/event/mobility/
LOCATION:MI
CATEGORIES:Subcommittee
ATTACH;FMTTYPE=image/jpeg:https://dnngr.org/wp-content/uploads/2022/06/Bikes-053021-018.jpg
ORGANIZER;CN="Kendsie Channing":MAILTO:kchanning@downtowngr.org
END:VEVENT
BEGIN:VEVENT
DTSTART;TZID=America/Detroit:20240109T163000
DTEND;TZID=America/Detroit:20240109T173000
DTSTAMP:20260421T001442
CREATED:20240109T181405Z
LAST-MODIFIED:20240109T181406Z
UID:4125-1704817800-1704821400@dnngr.org
SUMMARY:Storytelling\, Welcoming\, Gateways
DESCRIPTION:Relax at Rosa - the free lunchtime entertainment series - is back on Thursday\, May 1 from 12:00 - 1:30 PM.\n\nJoin the fun every Thursday (through September 11th) at Rosa Parks Circle.
URL:https://dnngr.org/event/storytelling-2/
LOCATION:MI
CATEGORIES:Subcommittee
ATTACH;FMTTYPE=image/jpeg:https://dnngr.org/wp-content/uploads/2023/12/MicrosoftTeams-image-36.jpg
ORGANIZER;CN="Kendsie Channing":MAILTO:kchanning@downtowngr.org
END:VEVENT
BEGIN:VEVENT
DTSTART;TZID=America/Detroit:20240111T100000
DTEND;TZID=America/Detroit:20240111T110000
DTSTAMP:20260421T001442
CREATED:20231221T000702Z
LAST-MODIFIED:20240129T144741Z
UID:4054-1704967200-1704970800@dnngr.org
SUMMARY:Outreach
DESCRIPTION:Relax at Rosa - the free lunchtime entertainment series - is back on Thursday\, May 1 from 12:00 - 1:30 PM.\n\nJoin the fun every Thursday (through September 11th) at Rosa Parks Circle.
URL:https://dnngr.org/event/outreach/
LOCATION:MI
CATEGORIES:Subcommittee
ATTACH;FMTTYPE=image/jpeg:https://dnngr.org/wp-content/uploads/2023/10/DGRI-DNNNightOut-080123-169.jpg
ORGANIZER;CN="Kendsie Channing":MAILTO:kchanning@downtowngr.org
END:VEVENT
BEGIN:VEVENT
DTSTART;TZID=America/Detroit:20240111T180000
DTEND;TZID=America/Detroit:20240111T190000
DTSTAMP:20260421T001442
CREATED:20240108T195708Z
LAST-MODIFIED:20240108T195708Z
UID:4123-1704996000-1704999600@dnngr.org
SUMMARY:Division/Fulton Construction Preparation Meeting (City of GR)
DESCRIPTION:Relax at Rosa - the free lunchtime entertainment series - is back on Thursday\, May 1 from 12:00 - 1:30 PM.\n\nJoin the fun every Thursday (through September 11th) at Rosa Parks Circle.
URL:https://dnngr.org/event/division-fulton-construction-preparation-meeting-city-of-gr/
LOCATION:Online
END:VEVENT
BEGIN:VEVENT
DTSTART;TZID=America/Detroit:20240131T180000
DTEND;TZID=America/Detroit:20240131T190000
DTSTAMP:20260421T001442
CREATED:20240102T145753Z
LAST-MODIFIED:20240103T201033Z
UID:4077-1706724000-1706727600@dnngr.org
SUMMARY:Downtown Community Garden
DESCRIPTION:Relax at Rosa - the free lunchtime entertainment series - is back on Thursday\, May 1 from 12:00 - 1:30 PM.\n\nJoin the fun every Thursday (through September 11th) at Rosa Parks Circle.
URL:https://dnngr.org/event/downtown-community-garden/
LOCATION:MI
CATEGORIES:Community Garden Meetings
ATTACH;FMTTYPE=image/jpeg:https://dnngr.org/wp-content/uploads/2023/11/FlowerPlantings-101122-165-1-scaled.jpg
ORGANIZER;CN="Kendsie Channing":MAILTO:kchanning@downtowngr.org
END:VEVENT
END:VCALENDAR