BEGIN:VCALENDAR
VERSION:2.0
PRODID:-//Downtown Neighbor Network - ECPv6.5.0//NONSGML v1.0//EN
CALSCALE:GREGORIAN
METHOD:PUBLISH
X-WR-CALNAME:Downtown Neighbor Network
X-ORIGINAL-URL:https://dnngr.org
X-WR-CALDESC:Events for Downtown Neighbor Network
REFRESH-INTERVAL;VALUE=DURATION:PT1H
X-Robots-Tag:noindex
X-PUBLISHED-TTL:PT1H
BEGIN:VTIMEZONE
TZID:America/Detroit
BEGIN:DAYLIGHT
TZOFFSETFROM:-0500
TZOFFSETTO:-0400
TZNAME:EDT
DTSTART:20240310T070000
END:DAYLIGHT
BEGIN:STANDARD
TZOFFSETFROM:-0400
TZOFFSETTO:-0500
TZNAME:EST
DTSTART:20241103T060000
END:STANDARD
END:VTIMEZONE
BEGIN:VEVENT
DTSTART;TZID=America/Detroit:20240111T100000
DTEND;TZID=America/Detroit:20240111T110000
DTSTAMP:20260421T110652
CREATED:20231221T000702Z
LAST-MODIFIED:20240129T144741Z
UID:4054-1704967200-1704970800@dnngr.org
SUMMARY:Outreach
DESCRIPTION:Relax at Rosa - the free lunchtime entertainment series - is back on Thursday\, May 1 from 12:00 - 1:30 PM.\n\nJoin the fun every Thursday (through September 11th) at Rosa Parks Circle.
URL:https://dnngr.org/event/outreach/
LOCATION:MI
CATEGORIES:Subcommittee
ATTACH;FMTTYPE=image/jpeg:https://dnngr.org/wp-content/uploads/2023/10/DGRI-DNNNightOut-080123-169.jpg
ORGANIZER;CN="Kendsie Channing":MAILTO:kchanning@downtowngr.org
END:VEVENT
BEGIN:VEVENT
DTSTART;TZID=America/Detroit:20240212T170000
DTEND;TZID=America/Detroit:20240212T180000
DTSTAMP:20260421T110652
CREATED:20240212T143212Z
LAST-MODIFIED:20240212T143214Z
UID:4259-1707757200-1707760800@dnngr.org
SUMMARY:Mobility
DESCRIPTION:Relax at Rosa - the free lunchtime entertainment series - is back on Thursday\, May 1 from 12:00 - 1:30 PM.\n\nJoin the fun every Thursday (through September 11th) at Rosa Parks Circle.
URL:https://dnngr.org/event/mobility-2/
LOCATION:MI
CATEGORIES:Subcommittee
ATTACH;FMTTYPE=image/jpeg:https://dnngr.org/wp-content/uploads/2022/06/Bikes-053021-018.jpg
ORGANIZER;CN="Kendsie Channing":MAILTO:kchanning@downtowngr.org
END:VEVENT
BEGIN:VEVENT
DTSTART;TZID=America/Detroit:20240213T163000
DTEND;TZID=America/Detroit:20240213T173000
DTSTAMP:20260421T110652
CREATED:20231220T235508Z
LAST-MODIFIED:20240102T150018Z
UID:4043-1707841800-1707845400@dnngr.org
SUMMARY:Storytelling\, Welcoming\, Gateways
DESCRIPTION:Relax at Rosa - the free lunchtime entertainment series - is back on Thursday\, May 1 from 12:00 - 1:30 PM.\n\nJoin the fun every Thursday (through September 11th) at Rosa Parks Circle.
URL:https://dnngr.org/event/storytelling/
LOCATION:MI
CATEGORIES:Subcommittee
ATTACH;FMTTYPE=image/jpeg:https://dnngr.org/wp-content/uploads/2023/12/MicrosoftTeams-image-36.jpg
ORGANIZER;CN="Kendsie Channing":MAILTO:kchanning@downtowngr.org
END:VEVENT
BEGIN:VEVENT
DTSTART;TZID=America/Detroit:20240215T163000
DTEND;TZID=America/Detroit:20240215T180000
DTSTAMP:20260421T110652
CREATED:20240102T153639Z
LAST-MODIFIED:20240112T185145Z
UID:4090-1708014600-1708020000@dnngr.org
SUMMARY:Color + Care Night
DESCRIPTION:Relax at Rosa - the free lunchtime entertainment series - is back on Thursday\, May 1 from 12:00 - 1:30 PM.\n\nJoin the fun every Thursday (through September 11th) at Rosa Parks Circle.
URL:https://dnngr.org/event/color-care-night/
LOCATION:MI
CATEGORIES:DNN Event
ATTACH;FMTTYPE=image/png:https://dnngr.org/wp-content/uploads/2024/01/Colorful-Doodle-Community-Event-Day-Poster.png
END:VEVENT
BEGIN:VEVENT
DTSTART;TZID=America/Detroit:20240219T180000
DTEND;TZID=America/Detroit:20240219T193000
DTSTAMP:20260421T110652
CREATED:20240118T202245Z
LAST-MODIFIED:20240118T202647Z
UID:4158-1708365600-1708371000@dnngr.org
SUMMARY:Soccer Stadium Community Meeting
DESCRIPTION:Relax at Rosa - the free lunchtime entertainment series - is back on Thursday\, May 1 from 12:00 - 1:30 PM.\n\nJoin the fun every Thursday (through September 11th) at Rosa Parks Circle.
URL:https://dnngr.org/event/soccer-stadium-community-meeting/
LOCATION:666 Leonard St NW\, Grand Rapids\, MI 49504\, 666 Leonard St NW\, Grand Rapids\, MI 49504
END:VEVENT
BEGIN:VEVENT
DTSTART;TZID=America/Detroit:20240131T180000
DTEND;TZID=America/Detroit:20240131T190000
DTSTAMP:20260421T110652
CREATED:20240102T145753Z
LAST-MODIFIED:20240103T201033Z
UID:4077-1706724000-1706727600@dnngr.org
SUMMARY:Downtown Community Garden
DESCRIPTION:Relax at Rosa - the free lunchtime entertainment series - is back on Thursday\, May 1 from 12:00 - 1:30 PM.\n\nJoin the fun every Thursday (through September 11th) at Rosa Parks Circle.
URL:https://dnngr.org/event/downtown-community-garden/
LOCATION:MI
CATEGORIES:Community Garden Meetings
ATTACH;FMTTYPE=image/jpeg:https://dnngr.org/wp-content/uploads/2023/11/FlowerPlantings-101122-165-1-scaled.jpg
ORGANIZER;CN="Kendsie Channing":MAILTO:kchanning@downtowngr.org
END:VEVENT
END:VCALENDAR